BEGIN:VCALENDAR
VERSION:2.0
PRODID:-//Herga Lodge 2548 - ECPv4.9.3.1//NONSGML v1.0//EN
CALSCALE:GREGORIAN
METHOD:PUBLISH
X-WR-CALNAME:Herga Lodge 2548
X-ORIGINAL-URL:https://www.hergalodge.org.uk
X-WR-CALDESC:Events for Herga Lodge 2548
BEGIN:VEVENT
DTSTART;TZID=Europe/London:20141018T170000
DTEND;TZID=Europe/London:20141018T190000
DTSTAMP:20260422T232341
CREATED:20140315T120343Z
LAST-MODIFIED:20140731T141027Z
UID:428-1413651600-1413658800@www.hergalodge.org.uk
SUMMARY:Next Meeting
DESCRIPTION:Degree Ceremony – 3rd \n  \n
URL:https://www.hergalodge.org.uk/event/next-meeting/
END:VEVENT
END:VCALENDAR