BEGIN:VCALENDAR
VERSION:2.0
PRODID:-//Herga Lodge 2548 - ECPv4.9.3.1//NONSGML v1.0//EN
CALSCALE:GREGORIAN
METHOD:PUBLISH
X-WR-CALNAME:Herga Lodge 2548
X-ORIGINAL-URL:https://www.hergalodge.org.uk
X-WR-CALDESC:Events for Herga Lodge 2548
BEGIN:VEVENT
DTSTART;TZID=UTC+0:20180217T163000
DTEND;TZID=UTC+0:20180217T210000
DTSTAMP:20260422T191118
CREATED:20171122T172227Z
LAST-MODIFIED:20171122T172227Z
UID:649-1518885000-1518901200@www.hergalodge.org.uk
SUMMARY:Next Meeting: Third Degree Ceremony followed by dinner
DESCRIPTION:
URL:https://www.hergalodge.org.uk/event/next-meeting-third-degree-ceremony-followed-by-dinner/
END:VEVENT
END:VCALENDAR