BEGIN:VCALENDAR
VERSION:2.0
PRODID:-//Herga Lodge 2548 - ECPv4.9.3.1//NONSGML v1.0//EN
CALSCALE:GREGORIAN
METHOD:PUBLISH
X-WR-CALNAME:Herga Lodge 2548
X-ORIGINAL-URL:https://www.hergalodge.org.uk
X-WR-CALDESC:Events for Herga Lodge 2548
BEGIN:VEVENT
DTSTART;TZID=UTC+0:20160319T150000
DTEND;TZID=UTC+0:20160319T213000
DTSTAMP:20260422T201502
CREATED:20160229T161346Z
LAST-MODIFIED:20160229T161346Z
UID:574-1458399600-1458423000@www.hergalodge.org.uk
SUMMARY:Next Meeting - Third and First Degree Ceremonies followed by Dinner
DESCRIPTION:
URL:https://www.hergalodge.org.uk/event/next-meeting-third-and-first-degree-ceremonies-followed-by-dinner/
END:VEVENT
END:VCALENDAR