BEGIN:VCALENDAR
VERSION:2.0
PRODID:-//Herga Lodge 2548 - ECPv4.9.3.1//NONSGML v1.0//EN
CALSCALE:GREGORIAN
METHOD:PUBLISH
X-WR-CALNAME:Herga Lodge 2548
X-ORIGINAL-URL:https://www.hergalodge.org.uk
X-WR-CALDESC:Events for Herga Lodge 2548
BEGIN:VEVENT
DTSTART;TZID=UTC+0:20160220T150000
DTEND;TZID=UTC+0:20160220T213000
DTSTAMP:20260422T214159
CREATED:20151126T162614Z
LAST-MODIFIED:20151126T162614Z
UID:569-1455980400-1456003800@www.hergalodge.org.uk
SUMMARY:Next Meeting - Second and First Degree Ceremonies followed by dinner
DESCRIPTION:
URL:https://www.hergalodge.org.uk/event/next-meeting-second-and-first-degree-ceremonies-followed-by-dinner/
END:VEVENT
END:VCALENDAR