BEGIN:VCALENDAR
VERSION:2.0
PRODID:-//Herga Lodge 2548 - ECPv4.9.3.1//NONSGML v1.0//EN
CALSCALE:GREGORIAN
METHOD:PUBLISH
X-WR-CALNAME:Herga Lodge 2548
X-ORIGINAL-URL:https://www.hergalodge.org.uk
X-WR-CALDESC:Events for Herga Lodge 2548
BEGIN:VEVENT
DTSTART;TZID=UTC+0:20191019T170000
DTEND;TZID=UTC+0:20191019T210000
DTSTAMP:20260422T190801
CREATED:20190320T102953Z
LAST-MODIFIED:20190921T174002Z
UID:679-1571504400-1571518800@www.hergalodge.org.uk
SUMMARY:Next meeting - Commentary on the First Degree Ceremony\, followed by dinner.
DESCRIPTION:
URL:https://www.hergalodge.org.uk/event/next-meeting-sat-19th-october-2019/
END:VEVENT
END:VCALENDAR