BEGIN:VCALENDAR
VERSION:2.0
PRODID:-//Herga Lodge 2548 - ECPv4.9.3.1//NONSGML v1.0//EN
CALSCALE:GREGORIAN
METHOD:PUBLISH
X-WR-CALNAME:Herga Lodge 2548
X-ORIGINAL-URL:https://www.hergalodge.org.uk
X-WR-CALDESC:Events for Herga Lodge 2548
BEGIN:VEVENT
DTSTART;TZID=UTC+0:20190216T170000
DTEND;TZID=UTC+0:20190216T210000
DTSTAMP:20260422T185603
CREATED:20190103T213457Z
LAST-MODIFIED:20190103T213457Z
UID:672-1550336400-1550350800@www.hergalodge.org.uk
SUMMARY:Next Meeting: Rehearsal of First Degree Ceremony followed by dinner.
DESCRIPTION:
URL:https://www.hergalodge.org.uk/event/next-meeting-rehearsal-of-first-degree-ceremony-followed-by-dinner/
END:VEVENT
END:VCALENDAR