BEGIN:VCALENDAR
VERSION:2.0
PRODID:-//Herga Lodge 2548 - ECPv4.9.3.1//NONSGML v1.0//EN
CALSCALE:GREGORIAN
METHOD:PUBLISH
X-WR-CALNAME:Herga Lodge 2548
X-ORIGINAL-URL:https://www.hergalodge.org.uk
X-WR-CALDESC:Events for Herga Lodge 2548
BEGIN:VEVENT
DTSTART;TZID=Europe/London:20251115T170000
DTEND;TZID=Europe/London:20251115T210000
DTSTAMP:20260422T153856
CREATED:20251114T224508Z
LAST-MODIFIED:20251114T224508Z
UID:835-1763226000-1763240400@www.hergalodge.org.uk
SUMMARY:Next Meeting: Installation of Master for ensuing year\, followed by dinner.
DESCRIPTION:
URL:https://www.hergalodge.org.uk/event/next-meeting-installation-of-master-for-ensuing-year-followed-by-dinner-5/
END:VEVENT
END:VCALENDAR