BEGIN:VCALENDAR
VERSION:2.0
PRODID:-//Herga Lodge 2548 - ECPv4.9.3.1//NONSGML v1.0//EN
CALSCALE:GREGORIAN
METHOD:PUBLISH
X-WR-CALNAME:Herga Lodge 2548
X-ORIGINAL-URL:https://www.hergalodge.org.uk
X-WR-CALDESC:Events for Herga Lodge 2548
BEGIN:VEVENT
DTSTART;TZID=Europe/London:20221119T170000
DTEND;TZID=Europe/London:20221119T210000
DTSTAMP:20260422T184752
CREATED:20221101T185840Z
LAST-MODIFIED:20221101T185840Z
UID:801-1668877200-1668891600@www.hergalodge.org.uk
SUMMARY:Next Meeting: Installation of Master for ensuing year followed by dinner
DESCRIPTION:
URL:https://www.hergalodge.org.uk/event/next-meeting-installation-of-master-for-ensuing-year-followed-by-dinner-3/
END:VEVENT
END:VCALENDAR