BEGIN:VCALENDAR
VERSION:2.0
PRODID:-//Herga Lodge 2548 - ECPv4.9.3.1//NONSGML v1.0//EN
CALSCALE:GREGORIAN
METHOD:PUBLISH
X-WR-CALNAME:Herga Lodge 2548
X-ORIGINAL-URL:https://www.hergalodge.org.uk
X-WR-CALDESC:Events for Herga Lodge 2548
BEGIN:VEVENT
DTSTART;TZID=UTC+0:20161015T150000
DTEND;TZID=UTC+0:20161015T210000
DTSTAMP:20260422T203022
CREATED:20160720T150442Z
LAST-MODIFIED:20160720T150537Z
UID:590-1476543600-1476565200@www.hergalodge.org.uk
SUMMARY:Next Meeting - 3rd and 2nd Degrees followed by dinner
DESCRIPTION:
URL:https://www.hergalodge.org.uk/event/next-meeting-3rd-2nd-degrees-followed-by-dinner/
LOCATION:Harrow District Masonic Centre
END:VEVENT
END:VCALENDAR