BEGIN:VCALENDAR
VERSION:2.0
PRODID:-//Herga Lodge 2548 - ECPv4.9.3.1//NONSGML v1.0//EN
CALSCALE:GREGORIAN
METHOD:PUBLISH
X-WR-CALNAME:Herga Lodge 2548
X-ORIGINAL-URL:https://www.hergalodge.org.uk
X-WR-CALDESC:Events for Herga Lodge 2548
BEGIN:VEVENT
DTSTART;TZID=UTC+0:20161119T150000
DTEND;TZID=UTC+0:20161119T213000
DTSTAMP:20260422T200644
CREATED:20161102T102304Z
LAST-MODIFIED:20161102T102852Z
UID:597-1479567600-1479591000@www.hergalodge.org.uk
SUMMARY:Next Meeting - 2nd Degree\, then Installation of new Master\, followed by dinner
DESCRIPTION:
URL:https://www.hergalodge.org.uk/event/next-meeting-2nd-degree-then-installation-of-new-master-followed-by-dinner/
END:VEVENT
END:VCALENDAR