BEGIN:VCALENDAR
VERSION:2.0
PRODID:-//Herga Lodge 2548 - ECPv4.9.3.1//NONSGML v1.0//EN
CALSCALE:GREGORIAN
METHOD:PUBLISH
X-WR-CALNAME:Herga Lodge 2548
X-ORIGINAL-URL:https://www.hergalodge.org.uk
X-WR-CALDESC:Events for Herga Lodge 2548
BEGIN:VEVENT
DTSTART;TZID=Europe/London:20230909T170000
DTEND;TZID=Europe/London:20230909T210000
DTSTAMP:20260422T151903
CREATED:20230530T212720Z
LAST-MODIFIED:20230530T212720Z
UID:811-1694278800-1694293200@www.hergalodge.org.uk
SUMMARY:Next meeting: 2nd Degree Ceremony followed by dinner
DESCRIPTION:
URL:https://www.hergalodge.org.uk/event/next-meeting-2nd-degree-ceremony-followed-by-dinner-2/
END:VEVENT
END:VCALENDAR