BEGIN:VCALENDAR
VERSION:2.0
PRODID:-//Herga Lodge 2548 - ECPv4.9.3.1//NONSGML v1.0//EN
CALSCALE:GREGORIAN
METHOD:PUBLISH
X-WR-CALNAME:Herga Lodge 2548
X-ORIGINAL-URL:https://www.hergalodge.org.uk
X-WR-CALDESC:Events for Herga Lodge 2548
BEGIN:VEVENT
DTSTART;TZID=Europe/London:20220219T170000
DTEND;TZID=Europe/London:20220219T210000
DTSTAMP:20260422T172419
CREATED:20220108T161204Z
LAST-MODIFIED:20220108T161204Z
UID:783-1645290000-1645304400@www.hergalodge.org.uk
SUMMARY:Next meeting: 1st Degree Ceremony followed by dinner.
DESCRIPTION:
URL:https://www.hergalodge.org.uk/event/next-meeting-1st-degree-ceremony-followed-by-dinner/
END:VEVENT
END:VCALENDAR